BEGIN:VCALENDAR
VERSION:2.0
PRODID:www.gruene-traunstein.de
METHOD:PUBLISH
BEGIN:VTIMEZONE
TZID:Europe/Berlin
X-LIC-LOCATION:Europe/Berlin
BEGIN:DAYLIGHT
TZOFFSETFROM:+0100
TZOFFSETTO:+0200
TZNAME:CEST
DTSTART:19700329T020000
RRULE:FREQ=YEARLY;INTERVAL=1;BYDAY=-1SU;BYMONTH=3
END:DAYLIGHT
BEGIN:STANDARD
TZOFFSETFROM:+0200
TZOFFSETTO:+0100
TZNAME:CET
DTSTART:19701025T030000
RRULE:FREQ=YEARLY;INTERVAL=1;BYDAY=-1SU;BYMONTH=10
END:STANDARD
END:VTIMEZONE
BEGIN:VEVENT
UID:7ff1cd02b2a2b2a2ae400b95c51738e3@www.gruene-traunstein.de
URL;VALUE=URI:https://www.gruene-traunstein.de/termine/ein-abend-mit-mia-
 goller-mdl/
LOCATION:Mehrzwecksaal im Bürgerhaus, An der Gemeindewiese, Fridolfing
SUMMARY:Ein Abend mit Mia Goller, MdL
DESCRIPTION;ALTREP="data:text/html,%0A%3Cp%3EUnsere%20agrarpolitische%20S
 precherin%20im%20Bayerischen%20Landtag%20%3Cbr%3Ekommt%20zu%20Besuch%20in
 %20ihre%20Heimatgemeinde%20Fridolfing%3C%2Fp%3E%0A%0A%0A%0A%3Cp%3E%3C%2Fp
 %3E%0A":Unsere agrarpolitische Sprecherin im Bayerischen Landtag kommt zu
  Besuch in ihre Heimatgemeinde Fridolfing
CLASS:PUBLIC
DTSTART;TZID=Europe/Berlin:20241120T190000
DTEND;TZID=Europe/Berlin:20241120T200000
DTSTAMP:20260425T120611
END:VEVENT
END:VCALENDAR