BEGIN:VCALENDAR
VERSION:2.0
PRODID:www.gruene-traunstein.de
METHOD:PUBLISH
BEGIN:VTIMEZONE
TZID:Europe/Berlin
X-LIC-LOCATION:Europe/Berlin
BEGIN:DAYLIGHT
TZOFFSETFROM:+0100
TZOFFSETTO:+0200
TZNAME:CEST
DTSTART:19700329T020000
RRULE:FREQ=YEARLY;INTERVAL=1;BYDAY=-1SU;BYMONTH=3
END:DAYLIGHT
BEGIN:STANDARD
TZOFFSETFROM:+0200
TZOFFSETTO:+0100
TZNAME:CET
DTSTART:19701025T030000
RRULE:FREQ=YEARLY;INTERVAL=1;BYDAY=-1SU;BYMONTH=10
END:STANDARD
END:VTIMEZONE
BEGIN:VEVENT
UID:de474fda8b8a15ee92790ca1069532b2@www.gruene-traunstein.de
URL;VALUE=URI:https://www.gruene-traunstein.de/termine/einladung-zur-jahr
 eshauptversammlung-2/
LOCATION:Ruhpoldinger Hof (Hubertusstüberl), Hauptstraße, Ruhpolding
SUMMARY:Einladung zur Jahreshauptversammlung
DESCRIPTION;ALTREP="data:text/html,%0A%3Cp%3EAm%20Freitag%2C%2029.11.2024
 %20um%2019%3A30%20Uhr%20l%C3%A4dt%20der%20Vorstand%20von%20B%C3%BCndnis90
 %2FDie%20Gr%C3%BCnen%20in%20den%20Ruhpoldinger%20Hof%20%28Hubertusst%C3%B
 Cberl%29%20zur%20Jahreshauptversammlung%20mit%20Neuwahl%20des%20Ortsvorst
 andes%20ein.%3C%2Fp%3E%0A%0A%0A%0A%3Cp%3EAlle%20Mitglieder%20und%20Intere
 ssentInnen%20sind%20zur%20%C3%B6ffentlichen%20Jahreshauptversammlung%20he
 rzlich%20eingeladen.%3C%2Fp%3E%0A%0A%0A%0A%3Cp%3E%3C%2Fp%3E%0A%0A%0A%0A%3
 Cp%20class%3D%22has-text-align-right%22%3EDer%20Vorstand%3C%2Fp%3E%0A":Am
  Freitag\, 29.11.2024 um 19:30 Uhr lädt der Vorstand von Bündnis90/Die 
 Grünen in den Ruhpoldinger Hof (Hubertusstüberl) zur Jahreshauptversamm
 lung mit Neuwahl des Ortsvorstandes ein.\n\nAlle Mitglieder und Interesse
 ntInnen sind zur öffentlichen Jahreshauptversammlung herzlich eingeladen
 .\n\nDer Vorstand
CLASS:PUBLIC
DTSTART;TZID=Europe/Berlin:20241129T193000
DTEND;TZID=Europe/Berlin:20241129T220000
DTSTAMP:20260423T064552
END:VEVENT
END:VCALENDAR