BEGIN:VCALENDAR
VERSION:2.0
PRODID:www.gruene-traunstein.de
METHOD:PUBLISH
BEGIN:VTIMEZONE
TZID:Europe/Berlin
X-LIC-LOCATION:Europe/Berlin
BEGIN:DAYLIGHT
TZOFFSETFROM:+0100
TZOFFSETTO:+0200
TZNAME:CEST
DTSTART:19700329T020000
RRULE:FREQ=YEARLY;INTERVAL=1;BYDAY=-1SU;BYMONTH=3
END:DAYLIGHT
BEGIN:STANDARD
TZOFFSETFROM:+0200
TZOFFSETTO:+0100
TZNAME:CET
DTSTART:19701025T030000
RRULE:FREQ=YEARLY;INTERVAL=1;BYDAY=-1SU;BYMONTH=10
END:STANDARD
END:VTIMEZONE
BEGIN:VEVENT
UID:0261318d37e6bb154a5237e113377a87@www.gruene-traunstein.de
URL;VALUE=URI:https://www.gruene-traunstein.de/termine/klimawandel-was-tu
 n/
LOCATION:Gasthaus Namberger, Hörpolding, Traunreut
SUMMARY:Klimawandel-Was tun?
DESCRIPTION;ALTREP="data:text/html,%0A%3Cp%3EDer%20OV%20Traunreut%20l%C3%
 A4dt%20herzlich%20zum%20Stammtisch%20ein%20am%20Mittwoch%2C%2016.10.24%20
 um%2019.00%20Uhr%20im%20Nebenzimmer%20des%20%20Gasthauses%20Namberger%20i
 n%20H%C3%B6rpolding.%3C%2Fp%3E%0A%0A%0A%0A%3Cp%3EAls%20Gast%20und%20Vortr
 agende%20zum%20Thema%3Cstrong%3E%20Klimawandel-Was%20tun%3F%3C%2Fstrong%3
 E%3C%2Fp%3E%0A%0A%0A%0A%3Cp%3Ed%C3%BCrfen%20wir%20unsere%20Landesvorsitze
 nde%20Gisela%20Sengl%20begr%C3%BC%C3%9Fen.%20Auch%20Dr.%20Norbert%20Wolff
 %20wird%20seine%20Eindr%C3%BCcke%20von%20seinem%20Besuch%20in%20Ecuador%2
 0schildern.%20%3C%2Fp%3E%0A%0A%0A%0A%3Cp%3E%3C%2Fp%3E%0A%0A%0A%0A%3Cp%3E%
 3C%2Fp%3E%0A":Der OV Traunreut lädt herzlich zum Stammtisch ein am Mittw
 och\, 16.10.24 um 19.00 Uhr im Nebenzimmer des  Gasthauses Namberger in H
 örpolding.\n\nAls Gast und Vortragende zum Thema Klimawandel-Was tun?\n\
 ndürfen wir unsere Landesvorsitzende Gisela Sengl begrüßen. Auch Dr. N
 orbert Wolff wird seine Eindrücke von seinem Besuch in Ecuador schildern
 .
CLASS:PUBLIC
DTSTART;TZID=Europe/Berlin:20241016T190000
DTEND;TZID=Europe/Berlin:20241016T200000
DTSTAMP:20260423T121418
END:VEVENT
END:VCALENDAR