BEGIN:VCALENDAR
VERSION:2.0
PRODID:www.gruene-traunstein.de
METHOD:PUBLISH
BEGIN:VTIMEZONE
TZID:Europe/Berlin
X-LIC-LOCATION:Europe/Berlin
BEGIN:DAYLIGHT
TZOFFSETFROM:+0100
TZOFFSETTO:+0200
TZNAME:CEST
DTSTART:19700329T020000
RRULE:FREQ=YEARLY;INTERVAL=1;BYDAY=-1SU;BYMONTH=3
END:DAYLIGHT
BEGIN:STANDARD
TZOFFSETFROM:+0200
TZOFFSETTO:+0100
TZNAME:CET
DTSTART:19701025T030000
RRULE:FREQ=YEARLY;INTERVAL=1;BYDAY=-1SU;BYMONTH=10
END:STANDARD
END:VTIMEZONE
BEGIN:VEVENT
UID:2973873a9fba2939726354ea614df85b@www.gruene-traunstein.de
URL;VALUE=URI:https://www.gruene-traunstein.de/termine/kv-ts-kreisversamm
 lung/
LOCATION:Sailer Keller, Herzog-Wilhelm-Straße 1, Traunstein
SUMMARY:KV TS: KREISVERSAMMLUNG
DESCRIPTION;ALTREP="data:text/html,%0A%3Cp%3EKreisversammlung%20der%20Tra
 unsteiner%20Gr%C3%BCnen%3C%2Fp%3E%0A":Kreisversammlung der Traunsteiner G
 rünen
CLASS:PUBLIC
DTSTART;TZID=Europe/Berlin:20211119T200000
DTEND;TZID=Europe/Berlin:20211119T210000
DTSTAMP:20260421T100008
END:VEVENT
END:VCALENDAR