BEGIN:VCALENDAR
VERSION:2.0
PRODID:www.gruene-traunstein.de
METHOD:PUBLISH
BEGIN:VTIMEZONE
TZID:Europe/Berlin
X-LIC-LOCATION:Europe/Berlin
BEGIN:DAYLIGHT
TZOFFSETFROM:+0100
TZOFFSETTO:+0200
TZNAME:CEST
DTSTART:19700329T020000
RRULE:FREQ=YEARLY;INTERVAL=1;BYDAY=-1SU;BYMONTH=3
END:DAYLIGHT
BEGIN:STANDARD
TZOFFSETFROM:+0200
TZOFFSETTO:+0100
TZNAME:CET
DTSTART:19701025T030000
RRULE:FREQ=YEARLY;INTERVAL=1;BYDAY=-1SU;BYMONTH=10
END:STANDARD
END:VTIMEZONE
BEGIN:VEVENT
UID:a2409d89e8cb01104fa5c5303b51e335@www.gruene-traunstein.de
URL;VALUE=URI:https://www.gruene-traunstein.de/termine/miteinander-reden-
 statt-schimpfen/
LOCATION:Gasthaus Sperrer, Grassau
SUMMARY:Miteinander reden statt schimpfen – Gisela Sengl im Gasthaus Sp
 errer in Grassau
DESCRIPTION;ALTREP="data:text/html,%0A%3Cp%3EWie%20geht%20es%20jungen%20K
 unst-%20und%20Kulturschaffenden%20im%20Landkreis%20Traunstein%3F%20Gibt%2
 0es%20gute%20F%C3%B6rderungen%20f%C3%BCr%20junge%20Menschen%20die%20haupt
 beruflich%20mit%20Kunst%20und%20Kultur%20ihren%20Lebensunterhalt%20verdie
 nen%3F%20Und%20warum%20ist%20es%20so%20wichtig%2C%20dass%20Kunst%20und%20
 Kultur%20in%20Bayern%20gef%C3%B6rdert%20und%20unterst%C3%BCtzt%20werden%3
 F%20%3C%2Fp%3E%0A%0A%0A%0A%3Cp%3EDar%C3%BCber%20diskutieren%20Landtagsabg
 eordnete%20Gisela%20Sengl%20mit%20ihren%20G%C3%A4sten%20der%20Schriftstel
 lerin%20und%20Moderatorin%C2%A0Ronja%20von%20R%C3%B6nne%20und%20dem%20Bil
 dhauer%C2%A0Valentin%20Diem.%3Cstrong%3E%C2%A0%20%C2%A0%3C%2Fstrong%3E%3C
 %2Fp%3E%0A%0A%0A%0A%3Cp%3E%3Cstrong%3EValentin%20Diem%20wird%20die%20Vera
 nstaltung%20musikalisch%20begleiten%20und%20einige%20seiner%20seine%20Wer
 ke%20als%20Bildhauer%20pr%C3%A4sentieren.%20%C2%A0Ronja%20von%20R%C3%B6nn
 e%20liest%20aus%20Ihren%20B%C3%BCchern.%20%C2%A0%20%3C%2Fstrong%3E%3C%2Fp
 %3E%0A%0A%0A%0A%3Cp%3EDer%20Ortsverband%20Grassau%20l%C3%A4dt%20alle%20in
 teressierten%20Mitb%C3%BCrgerrinnen%20und%20Mitb%C3%BCrger%20zu%20diesem%
 20kreativem%20kulturpolitischen%20Abend%20ein.%C2%A0%C2%A0%3Cstrong%3E%20
 %C2%A0%3C%2Fstrong%3E%3C%2Fp%3E%0A":Wie geht es jungen Kunst- und Kulturs
 chaffenden im Landkreis Traunstein? Gibt es gute Förderungen für junge 
 Menschen die hauptberuflich mit Kunst und Kultur ihren Lebensunterhalt ve
 rdienen? Und warum ist es so wichtig\, dass Kunst und Kultur in Bayern ge
 fördert und unterstützt werden?\n\nDarüber diskutieren Landtagsabgeord
 nete Gisela Sengl mit ihren Gästen der Schriftstellerin und Moderatorin
  Ronja von Rönne und dem Bildhauer Valentin Diem.   \n\nValentin Die
 m wird die Veranstaltung musikalisch begleiten und einige seiner seine We
 rke als Bildhauer präsentieren.  Ronja von Rönne liest aus Ihren Büch
 ern.  \n\nDer Ortsverband Grassau lädt alle interessierten Mitbürgerri
 nnen und Mitbürger zu diesem kreativem kulturpolitischen Abend ein.   
  
CLASS:PUBLIC
DTSTART;TZID=Europe/Berlin:20230927T190000
DTEND;TZID=Europe/Berlin:20230927T210000
DTSTAMP:20260424T101148
END:VEVENT
END:VCALENDAR