BEGIN:VCALENDAR
VERSION:2.0
PRODID:www.gruene-traunstein.de
METHOD:PUBLISH
BEGIN:VTIMEZONE
TZID:Europe/Berlin
X-LIC-LOCATION:Europe/Berlin
BEGIN:DAYLIGHT
TZOFFSETFROM:+0100
TZOFFSETTO:+0200
TZNAME:CEST
DTSTART:19700329T020000
RRULE:FREQ=YEARLY;INTERVAL=1;BYDAY=-1SU;BYMONTH=3
END:DAYLIGHT
BEGIN:STANDARD
TZOFFSETFROM:+0200
TZOFFSETTO:+0100
TZNAME:CET
DTSTART:19701025T030000
RRULE:FREQ=YEARLY;INTERVAL=1;BYDAY=-1SU;BYMONTH=10
END:STANDARD
END:VTIMEZONE
BEGIN:VEVENT
UID:853d1a2b75af54cd36ff4983f581ef83@www.gruene-traunstein.de
URL;VALUE=URI:https://www.gruene-traunstein.de/termine/ov-ruhpolding-laed
 t-zum-gruenen-stammtisch-ein/
LOCATION:Hotel Post im Jägerstüberll Ruhpolding, Hauptstraße 35, Ruhpo
 lding
SUMMARY:OV Ruhpolding lädt zum GRÜNEN Stammtisch ein
DESCRIPTION;ALTREP="data:text/html,%0A%3Cp%3E%3Cstrong%3E%3Cem%3EAm%20Don
 nerstag%20den%2028.04.%20um%2019%3A30%20Uhr%20laden%20wir%20zum%20Stammti
 sch%20im%20Hotel%20%E2%80%9EPost%E2%80%9C%20%28J%C3%A4gerst%C3%BCberl%29%
 20ein.%3C%2Fem%3E%3C%2Fstrong%3E%3C%2Fp%3E%0A%0A%0A%0A%3Cp%3E%3Cstrong%3E
 %3Cem%3EWir%20gehen%20der%20Frage%20nach%2C%20braucht%20Ruhpolding%20eine
 n%20Veranstaltungssaal%20%28Kurhaus%29%20und%20diskutieren%20%C3%BCber%20
 weitere%20aktuelle%20Themen.%3C%2Fem%3E%3C%2Fstrong%3E%3C%2Fp%3E%0A%0A%0A
 %0A%3Cp%3E%3Cstrong%3E%3Cem%3EDie%20Vorstandschaft%3C%2Fem%3E%3C%2Fstrong
 %3E%3C%2Fp%3E%0A":Am Donnerstag den 28.04. um 19:30 Uhr laden wir zum Sta
 mmtisch im Hotel „Post“ (Jägerstüberl) ein.\n\nWir gehen der Frage 
 nach\, braucht Ruhpolding einen Veranstaltungssaal (Kurhaus) und diskutie
 ren über weitere aktuelle Themen.\n\nDie Vorstandschaft
CLASS:PUBLIC
DTSTART;TZID=Europe/Berlin:20220428T193000
DTEND;TZID=Europe/Berlin:20220428T203000
DTSTAMP:20260420T135642
END:VEVENT
END:VCALENDAR