BEGIN:VCALENDAR
VERSION:2.0
PRODID:www.gruene-traunstein.de
METHOD:PUBLISH
BEGIN:VTIMEZONE
TZID:Europe/Berlin
X-LIC-LOCATION:Europe/Berlin
BEGIN:DAYLIGHT
TZOFFSETFROM:+0100
TZOFFSETTO:+0200
TZNAME:CEST
DTSTART:19700329T020000
RRULE:FREQ=YEARLY;INTERVAL=1;BYDAY=-1SU;BYMONTH=3
END:DAYLIGHT
BEGIN:STANDARD
TZOFFSETFROM:+0200
TZOFFSETTO:+0100
TZNAME:CET
DTSTART:19701025T030000
RRULE:FREQ=YEARLY;INTERVAL=1;BYDAY=-1SU;BYMONTH=10
END:STANDARD
END:VTIMEZONE
BEGIN:VEVENT
UID:542ad113d2aad4d26dd012b108fe8d48@www.gruene-traunstein.de
URL;VALUE=URI:https://www.gruene-traunstein.de/termine/sitzung-des-kreisv
 orstands/
LOCATION:Grünes Büro, Ludwigstr. 12C, Traunstein
SUMMARY:Sitzung des Kreisvorstands
DESCRIPTION;ALTREP="data:text/html,%0A%3Cp%3EVorstandssitzungen%20sind%20
 mitgliederoffen%20und%20jedes%20Mitglied%20ist%20herzlich%20eingeladen%2C
 %20teilzunehmen.%20%3C%2Fp%3E%0A%0A%0A%0A%3Cp%3EIn%20der%20Regel%20einmal
 %20im%20Monat%20an%20einem%20Donnerstag%20um%2018.30%20Uhr%20im%20Gr%C3%B
 Cnen%20B%C3%BCro.%3C%2Fp%3E%0A%0A%0A%0A%3Cp%3EMeldet%20Euch%20gerne%20vor
 her%20an%2C%20damit%20wir%20eventuelle%20nicht%C3%B6ffentliche%20Themen%2
 0entsprechend%20an%20den%20Sitzungsrand%20legen%20k%C3%B6nnen.%20buero%40
 gruene-traunstein.de%3C%2Fp%3E%0A%0A%0A%0A%3Cp%3E%3C%2Fp%3E%0A":Vorstands
 sitzungen sind mitgliederoffen und jedes Mitglied ist herzlich eingeladen
 \, teilzunehmen.\n\nIn der Regel einmal im Monat an einem Donnerstag um 1
 8.30 Uhr im Grünen Büro.\n\nMeldet Euch gerne vorher an\, damit wir eve
 ntuelle nichtöffentliche Themen entsprechend an den Sitzungsrand legen k
 önnen. buero@gruene-traunstein.de
CLASS:PUBLIC
DTSTART;TZID=Europe/Berlin:20250313T183000
DTEND;TZID=Europe/Berlin:20250313T210000
DTSTAMP:20260425T012735
END:VEVENT
END:VCALENDAR