BEGIN:VCALENDAR
VERSION:2.0
PRODID:www.gruene-traunstein.de
METHOD:PUBLISH
BEGIN:VTIMEZONE
TZID:Europe/Berlin
X-LIC-LOCATION:Europe/Berlin
BEGIN:DAYLIGHT
TZOFFSETFROM:+0100
TZOFFSETTO:+0200
TZNAME:CEST
DTSTART:19700329T020000
RRULE:FREQ=YEARLY;INTERVAL=1;BYDAY=-1SU;BYMONTH=3
END:DAYLIGHT
BEGIN:STANDARD
TZOFFSETFROM:+0200
TZOFFSETTO:+0100
TZNAME:CET
DTSTART:19701025T030000
RRULE:FREQ=YEARLY;INTERVAL=1;BYDAY=-1SU;BYMONTH=10
END:STANDARD
END:VTIMEZONE
BEGIN:VEVENT
UID:265e431db17ab389a609cf333aeb796b@www.gruene-traunstein.de
URL;VALUE=URI:https://www.gruene-traunstein.de/termine/stammtisch-in-chie
 ming/
LOCATION:Gasthaus Oberwirt, Chieming
SUMMARY:Stammtisch in Chieming
DESCRIPTION;ALTREP="data:text/html,%0A%3Cp%3EUnser%20n%C3%A4chster%20Stam
 mtisch%20des%20Ortverbands%20Chiemsee-Ost%20findet%20am%20Montag%2C%2028.
 %20Oktober%2C%20um%2019%20Uhr%20im%20Gasthof%20Oberwirt%20in%20Chieming%2
 0statt.%3C%2Fp%3E%0A%0A%0A%0A%3Cp%3EGemeinder%C3%A4te%20berichten%20aus%2
 0dem%20Ortsgeschehen%2C%20dazu%20werden%20aktuelle%20Themen%20besprochen.
 %20G%C3%A4ste%20sind%20willkommen%2C%20nat%C3%BCrlich%20auch%20au%C3%9Fer
 halb%20des%20Ortsverbands.%3C%2Fp%3E%0A%0A%0A%0A%3Cp%3E%3C%2Fp%3E%0A":Uns
 er nächster Stammtisch des Ortverbands Chiemsee-Ost findet am Montag\, 2
 8. Oktober\, um 19 Uhr im Gasthof Oberwirt in Chieming statt.\n\nGemeinde
 räte berichten aus dem Ortsgeschehen\, dazu werden aktuelle Themen bespr
 ochen. Gäste sind willkommen\, natürlich auch außerhalb des Ortsverban
 ds.
CLASS:PUBLIC
DTSTART;TZID=Europe/Berlin:20241028T190000
DTEND;TZID=Europe/Berlin:20241028T200000
DTSTAMP:20260422T042549
END:VEVENT
END:VCALENDAR